BEGIN:VCALENDAR
VERSION:2.0
PRODID:-//CERN//INDICO//EN
BEGIN:VEVENT
SUMMARY:IRIS-TWG - 10th March 2025
DTSTART:20260519T140000Z
DTEND:20260519T150000Z
DTSTAMP:20260424T122100Z
UID:indico-event-2463@indico.ph.qmul.ac.uk
DESCRIPTION:Speakers: Andrew Sansum (STFC\, Scientific Computing Departmen
 t)\n\nJoin using Microsoft Teams using details sent by Email \n\nhttps://i
 ndico.ph.qmul.ac.uk/event/2463/
LOCATION:Universe
URL:https://indico.ph.qmul.ac.uk/event/2463/
END:VEVENT
END:VCALENDAR
